BEGIN:VCALENDAR
VERSION:2.0
PRODID:-//HealthHIV - ECPv6.15.20//NONSGML v1.0//EN
CALSCALE:GREGORIAN
METHOD:PUBLISH
X-ORIGINAL-URL:https://healthhiv.org
X-WR-CALDESC:Events for HealthHIV
REFRESH-INTERVAL;VALUE=DURATION:PT1H
X-Robots-Tag:noindex
X-PUBLISHED-TTL:PT1H
BEGIN:VTIMEZONE
TZID:America/Los_Angeles
BEGIN:DAYLIGHT
TZOFFSETFROM:-0800
TZOFFSETTO:-0700
TZNAME:PDT
DTSTART:20250309T100000
END:DAYLIGHT
BEGIN:STANDARD
TZOFFSETFROM:-0700
TZOFFSETTO:-0800
TZNAME:PST
DTSTART:20251102T090000
END:STANDARD
BEGIN:DAYLIGHT
TZOFFSETFROM:-0800
TZOFFSETTO:-0700
TZNAME:PDT
DTSTART:20260308T100000
END:DAYLIGHT
BEGIN:STANDARD
TZOFFSETFROM:-0700
TZOFFSETTO:-0800
TZNAME:PST
DTSTART:20261101T090000
END:STANDARD
BEGIN:DAYLIGHT
TZOFFSETFROM:-0800
TZOFFSETTO:-0700
TZNAME:PDT
DTSTART:20270314T100000
END:DAYLIGHT
BEGIN:STANDARD
TZOFFSETFROM:-0700
TZOFFSETTO:-0800
TZNAME:PST
DTSTART:20271107T090000
END:STANDARD
END:VTIMEZONE
BEGIN:VEVENT
DTSTART;TZID=America/Los_Angeles:20260423T093000
DTEND;TZID=America/Los_Angeles:20260423T130000
DTSTAMP:20260424T113907
CREATED:20260202T150604Z
LAST-MODIFIED:20260417T201633Z
UID:10000048-1776936600-1776949200@healthhiv.org
SUMMARY:California Providers: Live Virtual HIV PrEP Navigation Certification (HIVPNC)
DESCRIPTION:Note: Participants must attend both half-day events to become certified.\nPart One: April 21\, 2026 • Part Two: April 23\, 2026 \n\nJoin HealthHIV virtually on April 21 and 23\, 2026 from 9:30am – 1:00pm Pacific to earn the HIV PrEP Navigation Certification (HIVPNC). The HIVPNC is the only national certification program that prepares providers and allied health professionals to guide community members in initiating\, using\, and staying engaged in PrEP care. \nThis live virtual\, interactive program provides California-based healthcare professionals with the knowledge\, skills\, and tools to deliver high-quality PrEP navigation by combining evidence-based strategies with practical application. Attendees will have the opportunity to engage in case-based learning\, network with peers\, and connect with leaders in the field\, making this a unique opportunity to elevate or solidify your expertise and advance HIV prevention in your community. \nBy successfully completing this free program\, individuals will: \n\nDemonstrate their commitment to delivering patient-centered PrEP navigation services\nDevelop skills to educate clients about PrEP and identify appropriate options\nHelp clients access and maintain PrEP through insurance navigation\, financial assistance\, and ongoing support\nEarn the HealthHIV HIV PrEP Navigation Certification\nReceive up to 6.0 CME/CE credits (CME\, ABIM MOC\, AAPA\, NCPD\, CPE\, ASWB)\nReceive a listing in the national online directory of HIVPNCs\n\n\nThis program has been supported by an independent educational grant from Gilead Sciences\, Inc. and ViiV Healthcare. \n\nQuestions?\nContact Marissa Tonelli\, Director of Medical Education\, at Marissa@HealthHIV.org or info@HealthHIV.org with questions. \n\nTarget Audience \nThis program is designed for PrEP navigators\, disease intervention specialists\, case managers\, social workers\, health educators\, and other allied health professionals who support clients at risk for HIV. Physicians\, PAs\, NPs\, nurses\, pharmacists\, and other clinicians involved in PrEP care are encouraged to participate. \n\nMedia: Live Webinar\nRelease date: 04/21/2026\nExpiration date: 04/23/2026\nTime to Complete: 6 hours\n\nEducational Objectives \nAfter completing this activity\, the participant should be better able to: \n\nDescribe the barriers patients face to initiating and adhering to PrEP and how providers and PrEP navigation staff can address these challenges through the health system\nSummarize best practices for guiding patients to access PrEP medication\, labs and clinic visits based on national and regional programming\, industry-sponsored assistance programs\, and insurance coverage\nEstablish safe spaces\, deliver client-centered\, culturally sensitive services and culturally- and linguistically-sensitive communication to help patients effectively navigate the PrEP care continuum\n\nAccreditation\, Credit\, and Support \nParticipants can earn up to 6.0 credits/contact hours (CME\, AAPA\, ANCC\, CPE\, ASWB) for completion of this educational activity.  \nIn support of improving patient care\, HealthHIV\, is jointly accredited by the Accreditation Council for Continuing Medical Education (ACCME)\, the Accreditation Council for Pharmacy Education (ACPE)\, and the American Nurses Credentialing Center (ANCC)\, to provide continuing education for the healthcare team. \nPhysician Continuing Medical Education \nHealthHIV designates this enduring material for a maximum of 6.0 AMA PRA Category 1 Credit™. Physicians should claim only the credit commensurate with the extent of their participation in the activity. \nPhysician Associate Credit Designation Statement \nHealthHIV has been authorized by the American Academy of Physician Associates (AAPA) to award AAPA Category 1 CME credit for activities planned in accordance with AAPA CME Criteria. This activity is designated for 6.0 AAPA Category 1 CME credits. PAs should only claim credit commensurate with the extent of their participation. \nNursing Continuing Professional Development \nSuccessful completion of this nursing continuing professional development activity will be awarded 6.0 contact hour. \nContinuing Pharmacy Education \nHealthHIV designates this continuing education activity for 6.0 contact hour (0.6 CEU) of the Accreditation Council for Pharmacy Education. \nType of Activity: Knowledge \nPlease see below for UAN number assigned: \nJA4008396-0000-26-025-L02-P \nSocial Worker Continuing Education \nAs a Jointly Accredited Organization\, HealthHIV is approved to offer social work continuing education by the Association of Social Work Boards (ASWB) Approved Continuing Education (ACE) program. Organizations\, not individual courses are approved under this program.  Regulatory boards have the final authority on courses accepted for continuing education credit. Social workers completing this course receive 6.0 general continuing education credit. \nSupport Statement \nThis program has been supported by an independent educational grant from Gilead Sciences Inc and ViiV Healthcare. \nPlanning Committee and Content/Peer Reviewers \nThe planners and content/peer reviewers from HealthHIV\, the accredited provider\, do not have any relevant financial relationships to disclose with ineligible companies. \nFaculty Disclosures \nAlan McCord\nHealthHIV\nWashington\, DC \nDisclosure: Alan McCord has no relevant financial relationships with ineligible companies to disclose for this educational activity. \nZaheer Suboh\nCalifornia Department of Public Health \nDisclosure: Zaheer Suboh has no relevant financial relationships with ineligible companies to disclose for this educational activity. \nDisclosure & Conflict of Interest Policy \nHealthHIV is committed to providing high quality continuing education to healthcare professionals\, as individuals and teams\, with a protected space to learn\, teach\, and engage in scientific discourse free from influence from ineligible companies that may have an incentive to insert commercial bias into education.  To that end\, HealthHIV requires faculty\, presenters\, planners\, staff\, and other individuals who are in a position to control the content of this CE activity to disclose all financial relationships they have had in the past 24 months with ineligible companies as defined by the ACCME\, as related to the content of this CE activity\, regardless of the amount or their view of the relevance to the education. All identified COI will be thoroughly vetted and mitigated according to HealthHIV policy. These disclosures will be provided to learners prior to the start of the CE activity. \nDisclosure of Unlabeled Use \nThis educational activity may contain discussions of published and/or investigational uses of agents that are not indicated by the FDA. The planners of this CE activity do not recommend the use of any agent outside of the labeled indications. The opinions expressed in the CE activity are those of the presenters and do not necessarily represent the views of the planners. Please refer to the official prescribing information for each product for discussion of approved indications\, contraindications\, and warnings. \nDisclaimer \nParticipants have an implied responsibility to use the newly acquired information to enhance patient outcomes and their own professional development. The information presented in this CE activity is not meant to serve as a guideline for patient management. Any procedures\, medications\, or other courses of diagnosis or treatment discussed or suggested in this CE activity should not be used by clinicians without evaluation of their patient’s conditions and possible contraindications and/or dangers in use\, review of any applicable manufacturer’s product information\, and comparison with recommendations of other authorities. \nMethod of Participation \nThere are no fees for participating in or receiving credit for this CE activity. In order to receive credit\, learners must participate in the entire CE activity\, complete the post-test and activity evaluation form and your certificate of credit will be generated. A passing score of 80% or higher is needed to obtain credit.  Your certificate will be available on eHealthHIV.org. If you have questions regarding your certificate\, please contact Beth Brooks via email at beth@healthhiv.org. \nFor information on applicability and acceptance of continuing education credit for this CE activity\, please consult your professional licensing board. \nFor Physicians requesting MOC credit\, the post-test and evaluation are required in their entirety as well as your Board Unique ID number\, DOB (MM/DD)\, and a score of 80% or higher is needed to obtain MOC credit (80% is required for ABS). \nFor Pharmacists\, HealthHIV  will accept your completed evaluation form for up to 30 days post-activity and will report your participation to the NABP only if you provide your NABP e-Profile number and DOB (MM/DD). Within 6 weeks\, you can view your participation record at the NABP website: https://nabp.pharmacy/. \nAbout This Activity \nHealthHIV is responsible for the selection of this activity’s topics\, the preparation of editorial content\, and the distribution of this CE activity. Our activities may contain references to unapproved products or uses of these products in certain jurisdictions. The preparation of this activity is supported by educational grants subject to written agreements that clearly stipulate and enforce the editorial independence of HealthHIV. \nThe materials presented here are used with the permission of the authors and/or other sources. \nIf you have any questions related to educational credits\, including the type or amount of credit awarded\, reporting of credits to certifying boards\, or general accreditation-related inquiries\, please contact the Accreditation Team at accreditation@healthhiv.org. A member of our team will be happy to assist you. \nIf you are experiencing issues accessing or downloading your certificate of completion\, or if you have questions specifically about your individual certificate\, please reach out directly to Beth at beth@healthhiv.org.
URL:https://healthhiv.org/event/ca-providers-hivpnc/2026-04-23/
CATEGORIES:Capacity Building,Education,Medical Education
ATTACH;FMTTYPE=image/jpeg:https://healthhiv.org/wp-content/uploads/2026/02/Header-HIVPNC-California-v2.jpg
LOCATION:https://healthhiv.org/event/ca-providers-hivpnc/2026-04-23/
END:VEVENT
BEGIN:VEVENT
DTSTART;TZID=America/Los_Angeles:20260421T093000
DTEND;TZID=America/Los_Angeles:20260421T130000
DTSTAMP:20260424T113907
CREATED:20260202T150604Z
LAST-MODIFIED:20260417T201633Z
UID:10000047-1776763800-1776776400@healthhiv.org
SUMMARY:California Providers: Live Virtual HIV PrEP Navigation Certification (HIVPNC)
DESCRIPTION:Note: Participants must attend both half-day events to become certified.\nPart One: April 21\, 2026 • Part Two: April 23\, 2026 \n\nJoin HealthHIV virtually on April 21 and 23\, 2026 from 9:30am – 1:00pm Pacific to earn the HIV PrEP Navigation Certification (HIVPNC). The HIVPNC is the only national certification program that prepares providers and allied health professionals to guide community members in initiating\, using\, and staying engaged in PrEP care. \nThis live virtual\, interactive program provides California-based healthcare professionals with the knowledge\, skills\, and tools to deliver high-quality PrEP navigation by combining evidence-based strategies with practical application. Attendees will have the opportunity to engage in case-based learning\, network with peers\, and connect with leaders in the field\, making this a unique opportunity to elevate or solidify your expertise and advance HIV prevention in your community. \nBy successfully completing this free program\, individuals will: \n\nDemonstrate their commitment to delivering patient-centered PrEP navigation services\nDevelop skills to educate clients about PrEP and identify appropriate options\nHelp clients access and maintain PrEP through insurance navigation\, financial assistance\, and ongoing support\nEarn the HealthHIV HIV PrEP Navigation Certification\nReceive up to 6.0 CME/CE credits (CME\, ABIM MOC\, AAPA\, NCPD\, CPE\, ASWB)\nReceive a listing in the national online directory of HIVPNCs\n\n\nThis program has been supported by an independent educational grant from Gilead Sciences\, Inc. and ViiV Healthcare. \n\nQuestions?\nContact Marissa Tonelli\, Director of Medical Education\, at Marissa@HealthHIV.org or info@HealthHIV.org with questions. \n\nTarget Audience \nThis program is designed for PrEP navigators\, disease intervention specialists\, case managers\, social workers\, health educators\, and other allied health professionals who support clients at risk for HIV. Physicians\, PAs\, NPs\, nurses\, pharmacists\, and other clinicians involved in PrEP care are encouraged to participate. \n\nMedia: Live Webinar\nRelease date: 04/21/2026\nExpiration date: 04/23/2026\nTime to Complete: 6 hours\n\nEducational Objectives \nAfter completing this activity\, the participant should be better able to: \n\nDescribe the barriers patients face to initiating and adhering to PrEP and how providers and PrEP navigation staff can address these challenges through the health system\nSummarize best practices for guiding patients to access PrEP medication\, labs and clinic visits based on national and regional programming\, industry-sponsored assistance programs\, and insurance coverage\nEstablish safe spaces\, deliver client-centered\, culturally sensitive services and culturally- and linguistically-sensitive communication to help patients effectively navigate the PrEP care continuum\n\nAccreditation\, Credit\, and Support \nParticipants can earn up to 6.0 credits/contact hours (CME\, AAPA\, ANCC\, CPE\, ASWB) for completion of this educational activity.  \nIn support of improving patient care\, HealthHIV\, is jointly accredited by the Accreditation Council for Continuing Medical Education (ACCME)\, the Accreditation Council for Pharmacy Education (ACPE)\, and the American Nurses Credentialing Center (ANCC)\, to provide continuing education for the healthcare team. \nPhysician Continuing Medical Education \nHealthHIV designates this enduring material for a maximum of 6.0 AMA PRA Category 1 Credit™. Physicians should claim only the credit commensurate with the extent of their participation in the activity. \nPhysician Associate Credit Designation Statement \nHealthHIV has been authorized by the American Academy of Physician Associates (AAPA) to award AAPA Category 1 CME credit for activities planned in accordance with AAPA CME Criteria. This activity is designated for 6.0 AAPA Category 1 CME credits. PAs should only claim credit commensurate with the extent of their participation. \nNursing Continuing Professional Development \nSuccessful completion of this nursing continuing professional development activity will be awarded 6.0 contact hour. \nContinuing Pharmacy Education \nHealthHIV designates this continuing education activity for 6.0 contact hour (0.6 CEU) of the Accreditation Council for Pharmacy Education. \nType of Activity: Knowledge \nPlease see below for UAN number assigned: \nJA4008396-0000-26-025-L02-P \nSocial Worker Continuing Education \nAs a Jointly Accredited Organization\, HealthHIV is approved to offer social work continuing education by the Association of Social Work Boards (ASWB) Approved Continuing Education (ACE) program. Organizations\, not individual courses are approved under this program.  Regulatory boards have the final authority on courses accepted for continuing education credit. Social workers completing this course receive 6.0 general continuing education credit. \nSupport Statement \nThis program has been supported by an independent educational grant from Gilead Sciences Inc and ViiV Healthcare. \nPlanning Committee and Content/Peer Reviewers \nThe planners and content/peer reviewers from HealthHIV\, the accredited provider\, do not have any relevant financial relationships to disclose with ineligible companies. \nFaculty Disclosures \nAlan McCord\nHealthHIV\nWashington\, DC \nDisclosure: Alan McCord has no relevant financial relationships with ineligible companies to disclose for this educational activity. \nZaheer Suboh\nCalifornia Department of Public Health \nDisclosure: Zaheer Suboh has no relevant financial relationships with ineligible companies to disclose for this educational activity. \nDisclosure & Conflict of Interest Policy \nHealthHIV is committed to providing high quality continuing education to healthcare professionals\, as individuals and teams\, with a protected space to learn\, teach\, and engage in scientific discourse free from influence from ineligible companies that may have an incentive to insert commercial bias into education.  To that end\, HealthHIV requires faculty\, presenters\, planners\, staff\, and other individuals who are in a position to control the content of this CE activity to disclose all financial relationships they have had in the past 24 months with ineligible companies as defined by the ACCME\, as related to the content of this CE activity\, regardless of the amount or their view of the relevance to the education. All identified COI will be thoroughly vetted and mitigated according to HealthHIV policy. These disclosures will be provided to learners prior to the start of the CE activity. \nDisclosure of Unlabeled Use \nThis educational activity may contain discussions of published and/or investigational uses of agents that are not indicated by the FDA. The planners of this CE activity do not recommend the use of any agent outside of the labeled indications. The opinions expressed in the CE activity are those of the presenters and do not necessarily represent the views of the planners. Please refer to the official prescribing information for each product for discussion of approved indications\, contraindications\, and warnings. \nDisclaimer \nParticipants have an implied responsibility to use the newly acquired information to enhance patient outcomes and their own professional development. The information presented in this CE activity is not meant to serve as a guideline for patient management. Any procedures\, medications\, or other courses of diagnosis or treatment discussed or suggested in this CE activity should not be used by clinicians without evaluation of their patient’s conditions and possible contraindications and/or dangers in use\, review of any applicable manufacturer’s product information\, and comparison with recommendations of other authorities. \nMethod of Participation \nThere are no fees for participating in or receiving credit for this CE activity. In order to receive credit\, learners must participate in the entire CE activity\, complete the post-test and activity evaluation form and your certificate of credit will be generated. A passing score of 80% or higher is needed to obtain credit.  Your certificate will be available on eHealthHIV.org. If you have questions regarding your certificate\, please contact Beth Brooks via email at beth@healthhiv.org. \nFor information on applicability and acceptance of continuing education credit for this CE activity\, please consult your professional licensing board. \nFor Physicians requesting MOC credit\, the post-test and evaluation are required in their entirety as well as your Board Unique ID number\, DOB (MM/DD)\, and a score of 80% or higher is needed to obtain MOC credit (80% is required for ABS). \nFor Pharmacists\, HealthHIV  will accept your completed evaluation form for up to 30 days post-activity and will report your participation to the NABP only if you provide your NABP e-Profile number and DOB (MM/DD). Within 6 weeks\, you can view your participation record at the NABP website: https://nabp.pharmacy/. \nAbout This Activity \nHealthHIV is responsible for the selection of this activity’s topics\, the preparation of editorial content\, and the distribution of this CE activity. Our activities may contain references to unapproved products or uses of these products in certain jurisdictions. The preparation of this activity is supported by educational grants subject to written agreements that clearly stipulate and enforce the editorial independence of HealthHIV. \nThe materials presented here are used with the permission of the authors and/or other sources. \nIf you have any questions related to educational credits\, including the type or amount of credit awarded\, reporting of credits to certifying boards\, or general accreditation-related inquiries\, please contact the Accreditation Team at accreditation@healthhiv.org. A member of our team will be happy to assist you. \nIf you are experiencing issues accessing or downloading your certificate of completion\, or if you have questions specifically about your individual certificate\, please reach out directly to Beth at beth@healthhiv.org.
URL:https://healthhiv.org/event/ca-providers-hivpnc/2026-04-21/
CATEGORIES:Capacity Building,Education,Medical Education
ATTACH;FMTTYPE=image/jpeg:https://healthhiv.org/wp-content/uploads/2026/02/Header-HIVPNC-California-v2.jpg
LOCATION:https://healthhiv.org/event/ca-providers-hivpnc/2026-04-21/
END:VEVENT
END:VCALENDAR